BEGIN:VCALENDAR
VERSION:2.0
PRODID:-//Josie McClure | Saxophonist - South Africa - ECPv6.15.13.1//NONSGML v1.0//EN
CALSCALE:GREGORIAN
METHOD:PUBLISH
X-ORIGINAL-URL:https://josiemcclure.com
X-WR-CALDESC:Events for Josie McClure | Saxophonist - South Africa
REFRESH-INTERVAL;VALUE=DURATION:PT1H
X-Robots-Tag:noindex
X-PUBLISHED-TTL:PT1H
BEGIN:VTIMEZONE
TZID:Africa/Johannesburg
BEGIN:STANDARD
TZOFFSETFROM:+0200
TZOFFSETTO:+0200
TZNAME:SAST
DTSTART:20240101T000000
END:STANDARD
END:VTIMEZONE
BEGIN:VEVENT
DTSTART;TZID=Africa/Johannesburg:20250703T200000
DTEND;TZID=Africa/Johannesburg:20250703T223000
DTSTAMP:20260424T053420
CREATED:20250702T193516Z
LAST-MODIFIED:20250702T193757Z
UID:3106-1751572800-1751581800@josiemcclure.com
SUMMARY:Alumni Orchestra Performance: A Pulse Before Dawn - Matthijs Van Dijk
DESCRIPTION:I will be playing tenor saxophone in the SICMF (Stellenbosch International Chamber Music Festival) Alumni Orchestra in the premiere of Matthjis Van Dijk’s A Pulse Before Dawn. The Alumni Orchestra was formed from past participants of SICMF to celebrate the 20th anniversary of the festival.
URL:https://josiemcclure.com/event/alumni-orchestra-performance-a-pulse-before-dawn-matthijs-van-dijk/
LOCATION:Endler Hall\, Stellenbosch Conservatorium\, Victoria St & Neethling St\, Stellenbosch Central\, Stellenbosch\, 7600\, Stellenbosch\, Western Cape\, 7600\, South Africa
END:VEVENT
END:VCALENDAR