BEGIN:VCALENDAR
VERSION:2.0
PRODID:-//Josie McClure | Saxophonist - South Africa - ECPv6.15.13.1//NONSGML v1.0//EN
CALSCALE:GREGORIAN
METHOD:PUBLISH
X-ORIGINAL-URL:https://josiemcclure.com
X-WR-CALDESC:Events for Josie McClure | Saxophonist - South Africa
REFRESH-INTERVAL;VALUE=DURATION:PT1H
X-Robots-Tag:noindex
X-PUBLISHED-TTL:PT1H
BEGIN:VTIMEZONE
TZID:Africa/Johannesburg
BEGIN:STANDARD
TZOFFSETFROM:+0200
TZOFFSETTO:+0200
TZNAME:SAST
DTSTART:20240101T000000
END:STANDARD
END:VTIMEZONE
BEGIN:VEVENT
DTSTART;TZID=Africa/Johannesburg:20251212T200000
DTEND;TZID=Africa/Johannesburg:20251212T210000
DTSTAMP:20260423T231002
CREATED:20251102T144034Z
LAST-MODIFIED:20251102T144100Z
UID:3163-1765569600-1765573200@josiemcclure.com
SUMMARY:MusicDance021 - Artistic Residency Cape Town\, Performance 5
DESCRIPTION:Isabella Hulme (saxophone)\, Yanna Romano (dance and piano)\, Jonathan Cumming (bass guitar\, electronics\, dance) \, Josie McClure (saxophone)\, Tsholofelo Ndaba (dance)  Zia Francis (dance)  Marie Hahne (dance)\, Roxanne de Freitas  (dance)\, Gemma Paton\,  (dance) Manuela Lucia Tessi (dance)\, Coila-Leah Enderstein (piano)\, Vintani Nafassi (percussion\, seperewa\, umtshingo\, mbira\, voice\, dance)\, Nicolle Vieira  (dance and text)\, Lucy Strauss ( viola\, electronics)\, Garth Erasmus (self-made\, indigenous instruments\, electronics and reeds)\, Friederike Wendorf (flutes) \nMusicDance021 is a platform for the interdisciplinary collaboration of dancers and musicians in performance. The project brings together established and emerging artists in a cutting-edge performance and workshop format. Started in January 2018 by Thalia Laric and Manuela Lucia Tessi at the Theatre Arts Admin Collective\, MusicDance021 represents an interdisciplinary dialogue across different performing art forms. It brings dancers and musicians into a shared space to exchange creative practice and refine collaboration skills. It offers audiences insight into the immediacy\, fluidity and risk of real-time collaboration\, unearthing new directions for performan
URL:https://josiemcclure.com/event/musicdance021-artistic-residency-cape-town-performance-5/
LOCATION:Theatre Arts\, Observatory\, Cape Town\, Theatre Arts\, and\, Corner Milton Road\, Wesley St\, Observatory\, Cape Town\, Western Cape\, 7925\, South Africa
ATTACH;FMTTYPE=image/jpeg:https://josiemcclure.com/wp-content/uploads/2025/11/MD-Cape-Town-general-poster.jpg
END:VEVENT
END:VCALENDAR