BEGIN:VCALENDAR
VERSION:2.0
PRODID:-//Josie McClure | Saxophonist - South Africa - ECPv6.15.13.1//NONSGML v1.0//EN
CALSCALE:GREGORIAN
METHOD:PUBLISH
X-ORIGINAL-URL:https://josiemcclure.com
X-WR-CALDESC:Events for Josie McClure | Saxophonist - South Africa
REFRESH-INTERVAL;VALUE=DURATION:PT1H
X-Robots-Tag:noindex
X-PUBLISHED-TTL:PT1H
BEGIN:VTIMEZONE
TZID:Africa/Johannesburg
BEGIN:STANDARD
TZOFFSETFROM:+0200
TZOFFSETTO:+0200
TZNAME:SAST
DTSTART:20250101T000000
END:STANDARD
END:VTIMEZONE
BEGIN:VEVENT
DTSTART;TZID=Africa/Johannesburg:20260419T160000
DTEND;TZID=Africa/Johannesburg:20260419T173000
DTSTAMP:20260423T175943
CREATED:20251106T055428Z
LAST-MODIFIED:20251106T055815Z
UID:3194-1776614400-1776619800@josiemcclure.com
SUMMARY:Saxophone and Piano Recital | Novo Duo
DESCRIPTION:
URL:https://josiemcclure.com/event/saxophone-and-piano-recital-novo-duo-2/
LOCATION:Old Nectar Gardens\, Jonkershoek Rd\, Stellenbosch\, Western Cape\, 7600\, South Africa
END:VEVENT
END:VCALENDAR