BEGIN:VCALENDAR
VERSION:2.0
PRODID:-//Josie McClure | Saxophonist - South Africa - ECPv6.15.13.1//NONSGML v1.0//EN
CALSCALE:GREGORIAN
METHOD:PUBLISH
X-ORIGINAL-URL:https://josiemcclure.com
X-WR-CALDESC:Events for Josie McClure | Saxophonist - South Africa
REFRESH-INTERVAL;VALUE=DURATION:PT1H
X-Robots-Tag:noindex
X-PUBLISHED-TTL:PT1H
BEGIN:VTIMEZONE
TZID:Africa/Johannesburg
BEGIN:STANDARD
TZOFFSETFROM:+0200
TZOFFSETTO:+0200
TZNAME:SAST
DTSTART:20250101T000000
END:STANDARD
END:VTIMEZONE
BEGIN:VEVENT
DTSTART;VALUE=DATE:20260825
DTEND;VALUE=DATE:20260826
DTSTAMP:20260423T215424
CREATED:20251224T070337Z
LAST-MODIFIED:20251224T070947Z
UID:3200-1787616000-1787702399@josiemcclure.com
SUMMARY:Novo Duo: Josie McClure and Seung-Ree Lee | Sax and Piano
DESCRIPTION:Saxophone and Piano Recital (70 mins)
URL:https://josiemcclure.com/event/piano-and-saxophone-recital-novo-duo-josie-mcclure-and-seung-ree-lee/
LOCATION:NWU Conservatory | Potchefstroom\, 62 Thabo Mbeki Way\, Potchefstroom\, North West Province\, 2520\, South Africa
ATTACH;FMTTYPE=image/jpeg:https://josiemcclure.com/wp-content/uploads/2025/11/image00005-scaled.jpeg
END:VEVENT
BEGIN:VEVENT
DTSTART;VALUE=DATE:20260918
DTEND;VALUE=DATE:20260919
DTSTAMP:20260423T215424
CREATED:20260112T195547Z
LAST-MODIFIED:20260112T195652Z
UID:3230-1789689600-1789775999@josiemcclure.com
SUMMARY:NorthSouth Duo | Stellenbosch Endler Prestige Concert Series
DESCRIPTION:
URL:https://josiemcclure.com/event/northsouth-duo-stellenbosch-endler-prestige-concert-series/
ATTACH;FMTTYPE=image/png:https://josiemcclure.com/wp-content/uploads/2026/01/Screenshot-2025-09-30-113456.png
END:VEVENT
BEGIN:VEVENT
DTSTART;TZID=Africa/Johannesburg:20260923T113000
DTEND;TZID=Africa/Johannesburg:20260923T123000
DTSTAMP:20260423T215424
CREATED:20260112T200049Z
LAST-MODIFIED:20260112T200049Z
UID:3232-1790163000-1790166600@josiemcclure.com
SUMMARY:Van Holland tot Heidelburg | NorthSouth Duo
DESCRIPTION:
URL:https://josiemcclure.com/event/van-holland-tot-heidelburg-northsouth-duo-2/
ATTACH;FMTTYPE=image/png:https://josiemcclure.com/wp-content/uploads/2026/01/Screenshot-2025-09-30-113456.png
END:VEVENT
END:VCALENDAR