BEGIN:VCALENDAR
VERSION:2.0
PRODID:-//Josie McClure | Saxophonist - South Africa - ECPv6.15.13.1//NONSGML v1.0//EN
CALSCALE:GREGORIAN
METHOD:PUBLISH
X-WR-CALNAME:Josie McClure | Saxophonist - South Africa
X-ORIGINAL-URL:https://josiemcclure.com
X-WR-CALDESC:Events for Josie McClure | Saxophonist - South Africa
REFRESH-INTERVAL;VALUE=DURATION:PT1H
X-Robots-Tag:noindex
X-PUBLISHED-TTL:PT1H
BEGIN:VTIMEZONE
TZID:UTC
BEGIN:STANDARD
TZOFFSETFROM:+0000
TZOFFSETTO:+0000
TZNAME:UTC
DTSTART:20240101T000000
END:STANDARD
END:VTIMEZONE
BEGIN:VEVENT
DTSTART;VALUE=DATE:20250509
DTEND;VALUE=DATE:20250510
DTSTAMP:20260424T015323
CREATED:20250508T082917Z
LAST-MODIFIED:20250508T082917Z
UID:2923-1746748800-1746835199@josiemcclure.com
SUMMARY:NorthSouth Duo | Hbo Festival
DESCRIPTION:Josie McClure (Saxophone) \nKaat Vanhaverbeke (accordion) \nProgramme: \nSuite Hellenique by Pedro Iturralde \nThe Elements: Earth by M. Majkusiak \n 
URL:https://josiemcclure.com/event/northsouth-duo-hbo-festival/
ATTACH;FMTTYPE=image/jpeg:https://josiemcclure.com/wp-content/uploads/2025/04/DSC07576-scaled.jpg
END:VEVENT
END:VCALENDAR