BEGIN:VCALENDAR
VERSION:2.0
PRODID:-//Josie McClure | Saxophonist - South Africa - ECPv6.15.13.1//NONSGML v1.0//EN
CALSCALE:GREGORIAN
METHOD:PUBLISH
X-ORIGINAL-URL:https://josiemcclure.com
X-WR-CALDESC:Events for Josie McClure | Saxophonist - South Africa
REFRESH-INTERVAL;VALUE=DURATION:PT1H
X-Robots-Tag:noindex
X-PUBLISHED-TTL:PT1H
BEGIN:VTIMEZONE
TZID:UTC
BEGIN:STANDARD
TZOFFSETFROM:+0000
TZOFFSETTO:+0000
TZNAME:UTC
DTSTART:20250101T000000
END:STANDARD
END:VTIMEZONE
BEGIN:VEVENT
DTSTART;VALUE=DATE:20260327
DTEND;VALUE=DATE:20260328
DTSTAMP:20260423T175454
CREATED:20250508T082431Z
LAST-MODIFIED:20250508T082431Z
UID:2921-1774569600-1774655999@josiemcclure.com
SUMMARY:Saxophone and Piano Recital | Novo Duo | Hermanus Music Society
DESCRIPTION:Novo Duo  \nJosie McClure (Saxophone) \nSeung-Ree Lee (Piano)
URL:https://josiemcclure.com/event/saxophone-and-piano-recital-novo-duo-hermanus-music-society/
ATTACH;FMTTYPE=image/jpeg:https://josiemcclure.com/wp-content/uploads/2023/09/IMG-3881-scaled.jpg
END:VEVENT
END:VCALENDAR